BEGIN:VCALENDAR
PRODID:-//Events Calendar//iCal4j 1.0//EN
CALSCALE:GREGORIAN
BEGIN:VEVENT
DTSTAMP:20260421T160654Z
DTSTART:20260423T090000
DTEND:20260423T100000
SUMMARY:Wandelen met Vitality Club Heerde
TZID:Europe/Brussels
UID:20260421T160654Z-uidGen@fe80:0:0:0:7464:7dff:fe3a:af8d%eth0
DESCRIPTION:Mensen ontmoeten en wandelen met de Vitality Club op dinsdag- en donderdagmorgen van 9.00 tot 10.00 uur. Vitality Club is een landelijk initiatief en heeft als doel om mensen te laten bewegen\, al wandelend in groepsverband in de buitenlucht. Je hoeft geen lid te worden of je aan- of af te melden. \nKosten: € 0\,50 per week of via een strippenkaart van € 5\,00\nDinsdag: Molencaten Park de Koerberg	09.00-10.00\nDonderdag: De Watermolen 09.00-10.00\nMeer info: Annemiek Brouwer\, tel: 06 12866355
LOCATION:Start: ingang van Molecaten Park de Koerberg\, Koerbergseweg 4-1 in Heerde en bij De Watermolen\, Beeklandseweg 13\, Heerde.
END:VEVENT
END:VCALENDAR
